BEGIN:VCALENDAR
VERSION:2.0
PRODID:-//Bolivar Peninsula Texas - ECPv6.15.20//NONSGML v1.0//EN
CALSCALE:GREGORIAN
METHOD:PUBLISH
X-WR-CALNAME:Bolivar Peninsula Texas
X-ORIGINAL-URL:https://bolivarpeninsulatexas.com
X-WR-CALDESC:Events for Bolivar Peninsula Texas
REFRESH-INTERVAL;VALUE=DURATION:PT1H
X-Robots-Tag:noindex
X-PUBLISHED-TTL:PT1H
BEGIN:VTIMEZONE
TZID:America/Chicago
BEGIN:DAYLIGHT
TZOFFSETFROM:-0600
TZOFFSETTO:-0500
TZNAME:CDT
DTSTART:20250309T080000
END:DAYLIGHT
BEGIN:STANDARD
TZOFFSETFROM:-0500
TZOFFSETTO:-0600
TZNAME:CST
DTSTART:20251102T070000
END:STANDARD
BEGIN:DAYLIGHT
TZOFFSETFROM:-0600
TZOFFSETTO:-0500
TZNAME:CDT
DTSTART:20260308T080000
END:DAYLIGHT
BEGIN:STANDARD
TZOFFSETFROM:-0500
TZOFFSETTO:-0600
TZNAME:CST
DTSTART:20261101T070000
END:STANDARD
BEGIN:DAYLIGHT
TZOFFSETFROM:-0600
TZOFFSETTO:-0500
TZNAME:CDT
DTSTART:20270314T080000
END:DAYLIGHT
BEGIN:STANDARD
TZOFFSETFROM:-0500
TZOFFSETTO:-0600
TZNAME:CST
DTSTART:20271107T070000
END:STANDARD
END:VTIMEZONE
BEGIN:VEVENT
DTSTART;TZID=America/Chicago:20260424T180000
DTEND;TZID=America/Chicago:20260424T210000
DTSTAMP:20260424T050902
CREATED:20260416T181050Z
LAST-MODIFIED:20260417T155851Z
UID:10000137-1777053600-1777064400@bolivarpeninsulatexas.com
SUMMARY:Bronco Jr
DESCRIPTION:Experience the raw energy and talent of Bronco Jr as they take the stage at Stingaree Restaurant and Marina. Known for their dynamic sound and engaging stage presence\, Bronco Jr brings a fresh energy to the Bolivar Peninsula music scene that you won’t want to miss.
URL:https://bolivarpeninsulatexas.com/event/bronco-jr
LOCATION:Stingaree Restaurant and Marina\, 1295 N. Stingaree Rd.\, Crystal Beach\, TX\, 77650\, United States
CATEGORIES:Music
ATTACH;FMTTYPE=image/png:https://bolivarpeninsulatexas.com/wp-content/uploads/2026/04/Bronco-JR-1.png
END:VEVENT
BEGIN:VEVENT
DTSTART;TZID=America/Chicago:20260424T193000
DTEND;TZID=America/Chicago:20260424T220000
DTSTAMP:20260424T050902
CREATED:20260220T174948Z
LAST-MODIFIED:20260220T174948Z
UID:10000102-1777059000-1777068000@bolivarpeninsulatexas.com
SUMMARY:Wesley Pruitt
DESCRIPTION:Prepare for a high-energy night as the Wesley Pruitt Band takes the stage at Paradise Park. With two decades of experience under his belt\, Wesley Pruitt has mastered the art of storytelling through music\, capturing the “ups and downs and the ins and outs of love and life.”    \nFans can expect a soulful\, powerful performance wrapped in Pruitt’s signature hard-driving blues-rock rhythms. Whether you’re a longtime follower or a newcomer to his sound\, Wesley Pruitt delivers a raw and relatable musical experience that resonates long after the final note.
URL:https://bolivarpeninsulatexas.com/event/wesley-pruitt
LOCATION:Camp Margaritaville RV Resort\, 796 Hwy 87\, Crystal Beach\, TX\, 77650\, United States
CATEGORIES:Music
ATTACH;FMTTYPE=image/jpeg:https://bolivarpeninsulatexas.com/wp-content/uploads/2026/02/Wesley-Pruitt.jpeg
END:VEVENT
END:VCALENDAR