BEGIN:VCALENDAR
VERSION:2.0
PRODID:-//Bolivar Peninsula Texas - ECPv6.15.20//NONSGML v1.0//EN
CALSCALE:GREGORIAN
METHOD:PUBLISH
X-ORIGINAL-URL:https://bolivarpeninsulatexas.com
X-WR-CALDESC:Events for Bolivar Peninsula Texas
REFRESH-INTERVAL;VALUE=DURATION:PT1H
X-Robots-Tag:noindex
X-PUBLISHED-TTL:PT1H
BEGIN:VTIMEZONE
TZID:America/Chicago
BEGIN:DAYLIGHT
TZOFFSETFROM:-0600
TZOFFSETTO:-0500
TZNAME:CDT
DTSTART:20250309T080000
END:DAYLIGHT
BEGIN:STANDARD
TZOFFSETFROM:-0500
TZOFFSETTO:-0600
TZNAME:CST
DTSTART:20251102T070000
END:STANDARD
BEGIN:DAYLIGHT
TZOFFSETFROM:-0600
TZOFFSETTO:-0500
TZNAME:CDT
DTSTART:20260308T080000
END:DAYLIGHT
BEGIN:STANDARD
TZOFFSETFROM:-0500
TZOFFSETTO:-0600
TZNAME:CST
DTSTART:20261101T070000
END:STANDARD
BEGIN:DAYLIGHT
TZOFFSETFROM:-0600
TZOFFSETTO:-0500
TZNAME:CDT
DTSTART:20270314T080000
END:DAYLIGHT
BEGIN:STANDARD
TZOFFSETFROM:-0500
TZOFFSETTO:-0600
TZNAME:CST
DTSTART:20271107T070000
END:STANDARD
END:VTIMEZONE
BEGIN:VEVENT
DTSTART;TZID=America/Chicago:20260306T180000
DTEND;TZID=America/Chicago:20260306T210000
DTSTAMP:20260419T233236
CREATED:20260119T201512Z
LAST-MODIFIED:20260127T155112Z
UID:10000050-1772820000-1772830800@bolivarpeninsulatexas.com
SUMMARY:Michael Farrell
DESCRIPTION:Kick back and enjoy the waterfront vibes as Michael Farrell brings his smooth\, laid-back sound to Stingaree Restaurant & Marina. With a mix of crowd favorites and easygoing coastal energy\, it’s the perfect soundtrack for great food\, cold drinks\, and a relaxing evening on the Intracoastal Waterway.
URL:https://bolivarpeninsulatexas.com/event/michael-farrell
LOCATION:Stingaree Restaurant and Marina\, 1295 N. Stingaree Rd.\, Crystal Beach\, TX\, 77650\, United States
CATEGORIES:Music
ATTACH;FMTTYPE=image/jpeg:https://bolivarpeninsulatexas.com/wp-content/uploads/2026/01/Michael-Farrell-1.jpg
END:VEVENT
BEGIN:VEVENT
DTSTART;TZID=America/Chicago:20260306T193000
DTEND;TZID=America/Chicago:20260306T220000
DTSTAMP:20260419T233236
CREATED:20260115T181015Z
LAST-MODIFIED:20260120T172915Z
UID:10000035-1772825400-1772834400@bolivarpeninsulatexas.com
SUMMARY:Kyle Garrett Band
DESCRIPTION:Kyle Garrett Band brings high-energy Indie Texas Country/Rock to the stage with a live show that’s loud\, lively\, and built to move the crowd. Catch their electric performance at Paradise Park for a night of big sound\, great vibes\, and coastal fun.
URL:https://bolivarpeninsulatexas.com/event/kyle-garrett-band
LOCATION:Camp Margaritaville RV Resort\, 796 Hwy 87\, Crystal Beach\, TX\, 77650\, United States
CATEGORIES:Music
ATTACH;FMTTYPE=image/png:https://bolivarpeninsulatexas.com/wp-content/uploads/2026/01/Bayou-Sounds.png
END:VEVENT
BEGIN:VEVENT
DTSTART;TZID=America/Chicago:20260307T180000
DTEND;TZID=America/Chicago:20260307T210000
DTSTAMP:20260419T233236
CREATED:20260119T202038Z
LAST-MODIFIED:20260119T202038Z
UID:10000051-1772906400-1772917200@bolivarpeninsulatexas.com
SUMMARY:Yacht Rock USA
DESCRIPTION:Set sail for smooth vibes as Yacht Rock USA brings feel-good classics to Stingaree Restaurant & Marina. From silky harmonies to laid-back grooves\, it’s the ultimate waterfront soundtrack—perfect for singing along\, sipping something cold\, and cruising into a great night on the coast.
URL:https://bolivarpeninsulatexas.com/event/yacht-rock-usa
LOCATION:Stingaree Restaurant and Marina\, 1295 N. Stingaree Rd.\, Crystal Beach\, TX\, 77650\, United States
CATEGORIES:Music
ATTACH;FMTTYPE=image/png:https://bolivarpeninsulatexas.com/wp-content/uploads/2026/01/Yacht-Rock-USA.png
END:VEVENT
BEGIN:VEVENT
DTSTART;TZID=America/Chicago:20260307T193000
DTEND;TZID=America/Chicago:20260307T220000
DTSTAMP:20260419T233236
CREATED:20260115T180257Z
LAST-MODIFIED:20260120T173427Z
UID:10000034-1772911800-1772920800@bolivarpeninsulatexas.com
SUMMARY:Hill Country Revival
DESCRIPTION:Hill Country Revival brings together five musicians from different walks of life and corners of the U.S.\, united in the heart of Texas by a shared love for southern rock and country roots. Hailing from New Braunfels\, TX\, they’re set to deliver an authentic\, high-energy show at Paradise Park—where grit\, groove\, and Texas soul take center stage.
URL:https://bolivarpeninsulatexas.com/event/hill-country-revival
LOCATION:Camp Margaritaville RV Resort\, 796 Hwy 87\, Crystal Beach\, TX\, 77650\, United States
CATEGORIES:Music
ATTACH;FMTTYPE=image/png:https://bolivarpeninsulatexas.com/wp-content/uploads/2026/01/Hill-Country-REvival-1.png
END:VEVENT
BEGIN:VEVENT
DTSTART;TZID=America/Chicago:20260308T060000
DTEND;TZID=America/Chicago:20260323T180000
DTSTAMP:20260419T233236
CREATED:20251205T113644Z
LAST-MODIFIED:20251205T113954Z
UID:10000007-1772949600-1774288800@bolivarpeninsulatexas.com
SUMMARY:Spring Break 2026
DESCRIPTION:Spring Break 2026 on Bolivar Peninsula: Your Coastal Calendar of Events\nGet ready for sun-soaked days\, salty breezes\, and 27 miles of wide-open beachfront—Spring Break 2026 in Crystal Beach\, Texas is where coastal charm meets family-friendly fun. From fresh Gulf seafood served at locally owned restaurants to live music echoing across bayside venues\, Bolivar Peninsula offers the perfect blend of relaxation\, adventure\, and authentic Texas history.\nThroughout March\, visitors can explore Fort Travis\, one of Texas’ earliest military sites overlooking Galveston Bay\, cast a line or watch freighters roll by at the North Jetties\, or take a peaceful walk among thousands of migrating birds at the world-famous Rookery in High Island. Families and Spring Breakers alike will find something unforgettable—whether it’s beach bonfires\, sunrise shell hunts\, or a full lineup of live entertainment and coastal events.\nEnjoy local flavor with shrimp\, oysters\, and daily specials from beloved family-run eateries\, then wind down with live bands playing everything from country to coastal rock at popular Crystal Beach venues. This is a season made for slowing down\, exploring nature\, supporting small businesses\, and truly living the coastal life. \nPlan your Spring Break escape now—Bolivar Peninsula is the Gulf Coast destination where adventure\, history\, and laid-back beach days come together for memories that last long after the sand is gone from your shoes.
URL:https://bolivarpeninsulatexas.com/event/spring-break-2026
LOCATION:Crystal Beach Texas\, 2275 Hwy 87\, Crystal Beach\, TX\, 77650\, United States
CATEGORIES:Events,Music
ATTACH;FMTTYPE=image/jpeg:https://bolivarpeninsulatexas.com/wp-content/uploads/2025/12/Spring-Break-2026-Crystal-Beach-Texas.jpeg
END:VEVENT
BEGIN:VEVENT
DTSTART;TZID=America/Chicago:20260308T193000
DTEND;TZID=America/Chicago:20260308T223000
DTSTAMP:20260419T233236
CREATED:20260209T201459Z
LAST-MODIFIED:20260209T203041Z
UID:10000090-1772998200-1773009000@bolivarpeninsulatexas.com
SUMMARY:Roger Creager
DESCRIPTION:Roger Creager is bringing his legendary energy to the Paradise Park Spring Break lineup! From high-octane anthems to those signature coastal-country hits\, he knows exactly how to turn a concert into the ultimate celebration. \nDon’t miss out—grab your crew and get ready for a Texas-sized party with a true Lone Star legend. \nSpecial Guest: Mason Creager
URL:https://bolivarpeninsulatexas.com/event/roger-creager-2
LOCATION:Camp Margaritaville RV Resort\, 796 Hwy 87\, Crystal Beach\, TX\, 77650\, United States
CATEGORIES:Music
ATTACH;FMTTYPE=image/jpeg:https://bolivarpeninsulatexas.com/wp-content/uploads/2026/02/Roger-Creager.jpeg
END:VEVENT
BEGIN:VEVENT
DTSTART;TZID=America/Chicago:20260309T193000
DTEND;TZID=America/Chicago:20260309T220000
DTSTAMP:20260419T233236
CREATED:20260115T182015Z
LAST-MODIFIED:20260120T174319Z
UID:10000036-1773084600-1773093600@bolivarpeninsulatexas.com
SUMMARY:Libby Lane
DESCRIPTION:Libby Lane is a Texas country singer-songwriter known for blending heartfelt country with a soulful twist on classic rock and pop favorites—including a standout country rendition of Dreams. Catch her soulful sound live at Paradise Park for a night of familiar songs reimagined with Texas flair.
URL:https://bolivarpeninsulatexas.com/event/libby-lane
LOCATION:Camp Margaritaville RV Resort\, 796 Hwy 87\, Crystal Beach\, TX\, 77650\, United States
CATEGORIES:Music
ATTACH;FMTTYPE=image/png:https://bolivarpeninsulatexas.com/wp-content/uploads/2026/01/Libby-Lane-1.png
END:VEVENT
BEGIN:VEVENT
DTSTART;TZID=America/Chicago:20260310T193000
DTEND;TZID=America/Chicago:20260310T220000
DTSTAMP:20260419T233236
CREATED:20260115T183039Z
LAST-MODIFIED:20260115T183153Z
UID:10000037-1773171000-1773180000@bolivarpeninsulatexas.com
SUMMARY:Jimmy Barcus
DESCRIPTION:Jimmy Barcus brings over 40 years of musical experience to the stage at Paradise Park\, delivering high-energy solo performances rooted in classic rock\, classic country\, rockabilly\, and American standards. Known for his engaging stage presence and authentic sound\, Jimmy connects with audiences through timeless songs and a true love for live music.
URL:https://bolivarpeninsulatexas.com/event/jimmy-barcus
LOCATION:Camp Margaritaville RV Resort\, 796 Hwy 87\, Crystal Beach\, TX\, 77650\, United States
CATEGORIES:Music
ATTACH;FMTTYPE=image/png:https://bolivarpeninsulatexas.com/wp-content/uploads/2026/01/Jimmy-Barcus.png
END:VEVENT
BEGIN:VEVENT
DTSTART;TZID=America/Chicago:20260311T193000
DTEND;TZID=America/Chicago:20260311T220000
DTSTAMP:20260419T233236
CREATED:20260115T185750Z
LAST-MODIFIED:20260120T175424Z
UID:10000038-1773257400-1773266400@bolivarpeninsulatexas.com
SUMMARY:Phillip Nance
DESCRIPTION:Phillip Nance takes the stage at Paradise Park bringing great energy\, solid musicianship\, and a laid-back coastal vibe. It’s the perfect soundtrack for a fun night out with live music\, cold drinks\, and beachside atmosphere.
URL:https://bolivarpeninsulatexas.com/event/phillip-nance
LOCATION:Camp Margaritaville RV Resort\, 796 Hwy 87\, Crystal Beach\, TX\, 77650\, United States
CATEGORIES:Music
ATTACH;FMTTYPE=image/png:https://bolivarpeninsulatexas.com/wp-content/uploads/2026/01/Bayou-Sounds.png
END:VEVENT
BEGIN:VEVENT
DTSTART;TZID=America/Chicago:20260312T193000
DTEND;TZID=America/Chicago:20260312T220000
DTSTAMP:20260419T233236
CREATED:20260115T190449Z
LAST-MODIFIED:20260120T175914Z
UID:10000039-1773343800-1773352800@bolivarpeninsulatexas.com
SUMMARY:Matt James
DESCRIPTION:Matt James hits the stage at Paradise Park with a crowd-pleasing live set and easygoing coastal energy. Enjoy a great night of music\, good vibes\, and beachfront fun in the heart of Crystal Beach.
URL:https://bolivarpeninsulatexas.com/event/matt-james
LOCATION:Camp Margaritaville RV Resort\, 796 Hwy 87\, Crystal Beach\, TX\, 77650\, United States
CATEGORIES:Music
ATTACH;FMTTYPE=image/png:https://bolivarpeninsulatexas.com/wp-content/uploads/2026/01/Live-Music.png
END:VEVENT
BEGIN:VEVENT
DTSTART;TZID=America/Chicago:20260313T180000
DTEND;TZID=America/Chicago:20260313T210000
DTSTAMP:20260419T233236
CREATED:20260119T202744Z
LAST-MODIFIED:20260119T202744Z
UID:10000052-1773424800-1773435600@bolivarpeninsulatexas.com
SUMMARY:Al White
DESCRIPTION:Enjoy a high-energy night on the water as Al White brings his crowd-pleasing sound to Stingaree Restaurant & Marina. With great tunes\, coastal views\, and a lively marina atmosphere\, it’s the perfect recipe for cold drinks\, fresh seafood\, and good times on the Upper Texas Coast.
URL:https://bolivarpeninsulatexas.com/event/al-white-2
LOCATION:Stingaree Restaurant and Marina\, 1295 N. Stingaree Rd.\, Crystal Beach\, TX\, 77650\, United States
CATEGORIES:Music
ATTACH;FMTTYPE=image/png:https://bolivarpeninsulatexas.com/wp-content/uploads/2026/01/Al-White.png
END:VEVENT
BEGIN:VEVENT
DTSTART;TZID=America/Chicago:20260313T193000
DTEND;TZID=America/Chicago:20260313T220000
DTSTAMP:20260419T233236
CREATED:20260115T191849Z
LAST-MODIFIED:20260115T191849Z
UID:10000040-1773430200-1773439200@bolivarpeninsulatexas.com
SUMMARY:Flight of the Keys-Dueling Pianos
DESCRIPTION:Flight of the Keys brings the ultimate sing-along party to Paradise Park with high-energy dueling pianos\, crowd requests\, and nonstop fun. Expect big laughs\, favorite hits\, and an interactive show that turns the night into one unforgettable beachfront celebration. 🎹🎶
URL:https://bolivarpeninsulatexas.com/event/flight-of-the-keys-dueling-pianos
LOCATION:Camp Margaritaville RV Resort\, 796 Hwy 87\, Crystal Beach\, TX\, 77650\, United States
CATEGORIES:Music
ATTACH;FMTTYPE=image/png:https://bolivarpeninsulatexas.com/wp-content/uploads/2026/01/Flight-of-the-Keys-2.png
END:VEVENT
BEGIN:VEVENT
DTSTART;TZID=America/Chicago:20260314T180000
DTEND;TZID=America/Chicago:20260314T210000
DTSTAMP:20260419T233236
CREATED:20260120T193027Z
LAST-MODIFIED:20260120T193027Z
UID:10000053-1773511200-1773522000@bolivarpeninsulatexas.com
SUMMARY:The Line Up
DESCRIPTION:The Line Up brings high-energy live music and crowd-favorite hits to Stingaree Restaurant & Marina. Set against the waterfront backdrop\, their upbeat sound keeps the party going—perfect for a night of dancing\, cold drinks\, fresh seafood\, and unforgettable coastal vibes.
URL:https://bolivarpeninsulatexas.com/event/the-line-up
LOCATION:Stingaree Restaurant and Marina\, 1295 N. Stingaree Rd.\, Crystal Beach\, TX\, 77650\, United States
CATEGORIES:Music
ATTACH;FMTTYPE=image/png:https://bolivarpeninsulatexas.com/wp-content/uploads/2026/01/The-Line-Up.png
END:VEVENT
BEGIN:VEVENT
DTSTART;TZID=America/Chicago:20260314T193000
DTEND;TZID=America/Chicago:20260314T223000
DTSTAMP:20260419T233236
CREATED:20260105T161109Z
LAST-MODIFIED:20260105T174224Z
UID:10000014-1773516600-1773527400@bolivarpeninsulatexas.com
SUMMARY:Kolby Cooper
DESCRIPTION:Kolby Cooper is an East Texas native on a fast rise in country music\, stacking millions of streams\, sold-out shows\, and a Grand Ole Opry debut in just four years. Known for turning real-life stories into raw\, relatable songs\, he’s keeping the momentum going with his high-energy new single\, Kill Me.
URL:https://bolivarpeninsulatexas.com/event/kolby-cooper
LOCATION:Camp Margaritaville RV Resort\, 796 Hwy 87\, Crystal Beach\, TX\, 77650\, United States
CATEGORIES:Music
ATTACH;FMTTYPE=image/png:https://bolivarpeninsulatexas.com/wp-content/uploads/2026/01/Kolby-Cooper.png
END:VEVENT
BEGIN:VEVENT
DTSTART;TZID=America/Chicago:20260315T193000
DTEND;TZID=America/Chicago:20260315T220000
DTSTAMP:20260419T233236
CREATED:20260115T195232Z
LAST-MODIFIED:20260120T180356Z
UID:10000041-1773603000-1773612000@bolivarpeninsulatexas.com
SUMMARY:Braden Davis (Of The Davis Brothers)
DESCRIPTION:Braden Davis of the Davis Brothers Band brings his signature sound and laid-back Texas style to the stage at Paradise Park. Expect a great night of live music\, coastal vibes\, and crowd-friendly favorites perfect for an evening at the beach.
URL:https://bolivarpeninsulatexas.com/event/braden-davis-of-the-davis-brothers
LOCATION:Camp Margaritaville RV Resort\, 796 Hwy 87\, Crystal Beach\, TX\, 77650\, United States
CATEGORIES:Music
ATTACH;FMTTYPE=image/png:https://bolivarpeninsulatexas.com/wp-content/uploads/2026/01/Bayou-Sounds.png
END:VEVENT
BEGIN:VEVENT
DTSTART;TZID=America/Chicago:20260316T193000
DTEND;TZID=America/Chicago:20260316T220000
DTSTAMP:20260419T233236
CREATED:20260115T200152Z
LAST-MODIFIED:20260120T180728Z
UID:10000042-1773689400-1773698400@bolivarpeninsulatexas.com
SUMMARY:Bronson Louis
DESCRIPTION:Bronson Louis brings raw\, heartfelt Americana to the stage at Paradise Park. Hailing from Fort Worth\, his soulful voice and honest storytelling reflect real-life grit and emotion\, creating an authentic Texas sound that resonates with audiences and inspires fellow musicians to chase their dreams.
URL:https://bolivarpeninsulatexas.com/event/bronson-louis
LOCATION:Camp Margaritaville RV Resort\, 796 Hwy 87\, Crystal Beach\, TX\, 77650\, United States
CATEGORIES:Music
ATTACH;FMTTYPE=image/png:https://bolivarpeninsulatexas.com/wp-content/uploads/2026/01/Live-Music.png
END:VEVENT
BEGIN:VEVENT
DTSTART;TZID=America/Chicago:20260317T193000
DTEND;TZID=America/Chicago:20260317T220000
DTSTAMP:20260419T233236
CREATED:20260115T201016Z
LAST-MODIFIED:20260120T181117Z
UID:10000043-1773775800-1773784800@bolivarpeninsulatexas.com
SUMMARY:Susan Hickman
DESCRIPTION:Susan Hickman brings her engaging live performance to Paradise Park\, delivering a fun\, relaxed show perfect for a night of beachfront music and good vibes. Enjoy great tunes\, a lively atmosphere\, and the coastal energy Paradise Park is known for.
URL:https://bolivarpeninsulatexas.com/event/susan-hickman
LOCATION:Camp Margaritaville RV Resort\, 796 Hwy 87\, Crystal Beach\, TX\, 77650\, United States
CATEGORIES:Music
ATTACH;FMTTYPE=image/png:https://bolivarpeninsulatexas.com/wp-content/uploads/2026/01/Live-Music.png
END:VEVENT
BEGIN:VEVENT
DTSTART;TZID=America/Chicago:20260318T193000
DTEND;TZID=America/Chicago:20260318T220000
DTSTAMP:20260419T233236
CREATED:20260115T202239Z
LAST-MODIFIED:20260120T181339Z
UID:10000044-1773862200-1773871200@bolivarpeninsulatexas.com
SUMMARY:Gage Fontenot
DESCRIPTION:Gage Fontenot takes the stage at Paradise Park bringing a high-energy performance. It’s the perfect mix of live music\, beach vibes\, and a great night out at Paradise Park.
URL:https://bolivarpeninsulatexas.com/event/gage-fontenot
LOCATION:Camp Margaritaville RV Resort\, 796 Hwy 87\, Crystal Beach\, TX\, 77650\, United States
CATEGORIES:Music
ATTACH;FMTTYPE=image/png:https://bolivarpeninsulatexas.com/wp-content/uploads/2026/01/Bayou-Sounds.png
END:VEVENT
BEGIN:VEVENT
DTSTART;TZID=America/Chicago:20260319T193000
DTEND;TZID=America/Chicago:20260319T220000
DTSTAMP:20260419T233236
CREATED:20260116T152317Z
LAST-MODIFIED:20260120T182716Z
UID:10000045-1773948600-1773957600@bolivarpeninsulatexas.com
SUMMARY:Logan Gray (of Truckstop Gamblers)
DESCRIPTION:Logan Gray of the Truckstop Gamblers brings his gritty Texas sound and high-energy performance to Paradise Park\, delivering a night of authentic country vibes and crowd-pleasing favorites. From heartfelt originals to road-tested tunes\, Logan knows how to turn a live show into a good-time gathering you won’t want to miss.
URL:https://bolivarpeninsulatexas.com/event/logan-gray-of-truckstop-gamblers
LOCATION:Camp Margaritaville RV Resort\, 796 Hwy 87\, Crystal Beach\, TX\, 77650\, United States
CATEGORIES:Music
ATTACH;FMTTYPE=image/png:https://bolivarpeninsulatexas.com/wp-content/uploads/2026/01/Country-Music.png
END:VEVENT
BEGIN:VEVENT
DTSTART;TZID=America/Chicago:20260320T180000
DTEND;TZID=America/Chicago:20260320T210000
DTSTAMP:20260419T233236
CREATED:20260120T195124Z
LAST-MODIFIED:20260120T195421Z
UID:10000054-1774029600-1774040400@bolivarpeninsulatexas.com
SUMMARY:Dalton Grice
DESCRIPTION:Dalton Grice takes the stage at Stingaree Restaurant & Marina with a laid-back country sound that fits the coast perfectly. From smooth originals to familiar favorites\, his performance pairs effortlessly with fresh seafood\, cold drinks\, and waterfront sunsets for a classic Stingaree night.
URL:https://bolivarpeninsulatexas.com/event/dalton-grice
LOCATION:Stingaree Restaurant and Marina\, 1295 N. Stingaree Rd.\, Crystal Beach\, TX\, 77650\, United States
CATEGORIES:Music
ATTACH;FMTTYPE=image/png:https://bolivarpeninsulatexas.com/wp-content/uploads/2026/01/Dalton-Grice.png
END:VEVENT
BEGIN:VEVENT
DTSTART;TZID=America/Chicago:20260320T193000
DTEND;TZID=America/Chicago:20260320T220000
DTSTAMP:20260419T233236
CREATED:20260116T153242Z
LAST-MODIFIED:20260120T183246Z
UID:10000046-1774035000-1774044000@bolivarpeninsulatexas.com
SUMMARY:Turning Point
DESCRIPTION:Get ready for a high-energy night at Paradise Park as Turning Point takes the stage\, bringing a crowd-pleasing mix of great music\, good vibes\, and nonstop fun. Grab a drink\, bring your friends\, and enjoy an evening of live music that keeps the party going from the first song to the last. 🎶🌴
URL:https://bolivarpeninsulatexas.com/event/turning-point
LOCATION:Camp Margaritaville RV Resort\, 796 Hwy 87\, Crystal Beach\, TX\, 77650\, United States
CATEGORIES:Music
ATTACH;FMTTYPE=image/png:https://bolivarpeninsulatexas.com/wp-content/uploads/2026/01/Live-Music.png
END:VEVENT
BEGIN:VEVENT
DTSTART;TZID=America/Chicago:20260321T180000
DTEND;TZID=America/Chicago:20260321T210000
DTSTAMP:20260419T233236
CREATED:20260120T201445Z
LAST-MODIFIED:20260120T201445Z
UID:10000055-1774116000-1774126800@bolivarpeninsulatexas.com
SUMMARY:The Damn Quails
DESCRIPTION:The Damn Quails bring their signature Red Dirt and Americana sound to Stingaree Restaurant & Marina for a night of authentic Texas music on the water. Known for heartfelt songwriting\, gritty vocals\, and high-energy performances\, The Damn Quails deliver a show that pairs perfectly with fresh seafood\, cold drinks\, and unforgettable waterfront vibes.
URL:https://bolivarpeninsulatexas.com/event/the-damn-quails
LOCATION:Stingaree Restaurant and Marina\, 1295 N. Stingaree Rd.\, Crystal Beach\, TX\, 77650\, United States
CATEGORIES:Music
ATTACH;FMTTYPE=image/png:https://bolivarpeninsulatexas.com/wp-content/uploads/2026/01/The-Damn-Quails.png
END:VEVENT
BEGIN:VEVENT
DTSTART;TZID=America/Chicago:20260321T193000
DTEND;TZID=America/Chicago:20260321T223000
DTSTAMP:20260419T233236
CREATED:20260113T171420Z
LAST-MODIFIED:20260119T145039Z
UID:10000033-1774121400-1774132200@bolivarpeninsulatexas.com
SUMMARY:Blacktop Mojo-Spring Break
DESCRIPTION:Crank up Spring Break with Blacktop Mojo as they light up Paradise Park with raw Southern grit\, booming riffs\, and arena-level energy. Grab your crew for a hard-charging night of rock\, ice-cold drinks\, and beachside vibes that keep the party going well past the final note.
URL:https://bolivarpeninsulatexas.com/event/blacktop-mojo-spring-break
LOCATION:Camp Margaritaville RV Resort\, 796 Hwy 87\, Crystal Beach\, TX\, 77650\, United States
CATEGORIES:Music
ATTACH;FMTTYPE=image/png:https://bolivarpeninsulatexas.com/wp-content/uploads/2026/01/Blacktop-Mojo.png
END:VEVENT
BEGIN:VEVENT
DTSTART;TZID=America/Chicago:20260327T193000
DTEND;TZID=America/Chicago:20260327T220000
DTSTAMP:20260419T233236
CREATED:20260116T154142Z
LAST-MODIFIED:20260120T183525Z
UID:10000047-1774639800-1774648800@bolivarpeninsulatexas.com
SUMMARY:Joe Blake
DESCRIPTION:Joe Blake is back at Paradise Park\, bringing his signature sound and crowd-pleasing energy to one of Crystal Beach’s favorite live music spots. Whether you’re winding down after a day on the beach or looking to kick off a fun night out\, Joe Blake’s return promises great music\, good vibes\, and a laid-back coastal atmosphere you don’t want to miss. 🎶🌴
URL:https://bolivarpeninsulatexas.com/event/joe-blake
LOCATION:Camp Margaritaville RV Resort\, 796 Hwy 87\, Crystal Beach\, TX\, 77650\, United States
CATEGORIES:Music
ATTACH;FMTTYPE=image/png:https://bolivarpeninsulatexas.com/wp-content/uploads/2026/01/Country-Music.png
END:VEVENT
END:VCALENDAR