BEGIN:VCALENDAR
VERSION:2.0
PRODID:-//Bolivar Peninsula Texas - ECPv6.15.20//NONSGML v1.0//EN
CALSCALE:GREGORIAN
METHOD:PUBLISH
X-ORIGINAL-URL:https://bolivarpeninsulatexas.com
X-WR-CALDESC:Events for Bolivar Peninsula Texas
REFRESH-INTERVAL;VALUE=DURATION:PT1H
X-Robots-Tag:noindex
X-PUBLISHED-TTL:PT1H
BEGIN:VTIMEZONE
TZID:America/Chicago
BEGIN:DAYLIGHT
TZOFFSETFROM:-0600
TZOFFSETTO:-0500
TZNAME:CDT
DTSTART:20250309T080000
END:DAYLIGHT
BEGIN:STANDARD
TZOFFSETFROM:-0500
TZOFFSETTO:-0600
TZNAME:CST
DTSTART:20251102T070000
END:STANDARD
BEGIN:DAYLIGHT
TZOFFSETFROM:-0600
TZOFFSETTO:-0500
TZNAME:CDT
DTSTART:20260308T080000
END:DAYLIGHT
BEGIN:STANDARD
TZOFFSETFROM:-0500
TZOFFSETTO:-0600
TZNAME:CST
DTSTART:20261101T070000
END:STANDARD
BEGIN:DAYLIGHT
TZOFFSETFROM:-0600
TZOFFSETTO:-0500
TZNAME:CDT
DTSTART:20270314T080000
END:DAYLIGHT
BEGIN:STANDARD
TZOFFSETFROM:-0500
TZOFFSETTO:-0600
TZNAME:CST
DTSTART:20271107T070000
END:STANDARD
END:VTIMEZONE
BEGIN:VEVENT
DTSTART;TZID=America/Chicago:20260109T193000
DTEND;TZID=America/Chicago:20260109T220000
DTSTAMP:20260420T091044
CREATED:20260105T174759Z
LAST-MODIFIED:20260105T180208Z
UID:10000015-1767987000-1767996000@bolivarpeninsulatexas.com
SUMMARY:Matthew Marcus McDaniel
DESCRIPTION:Join us for an unforgettable evening with Matthew Marcus McDaniel as he blends heartfelt storytelling with soulful melodies that captivate every listener. Experience an intimate night of live music and coastal vibes at Paradise Park.
URL:https://bolivarpeninsulatexas.com/event/matthew-marcus-mcdaniel
LOCATION:Camp Margaritaville RV Resort\, 796 Hwy 87\, Crystal Beach\, TX\, 77650\, United States
CATEGORIES:Music
ATTACH;FMTTYPE=image/png:https://bolivarpeninsulatexas.com/wp-content/uploads/2026/01/Matthew-Marcus-McDaniel-1.png
END:VEVENT
BEGIN:VEVENT
DTSTART;TZID=America/Chicago:20260110T190000
DTEND;TZID=America/Chicago:20260110T213000
DTSTAMP:20260420T091044
CREATED:20260105T175152Z
LAST-MODIFIED:20260105T180153Z
UID:10000016-1768071600-1768080600@bolivarpeninsulatexas.com
SUMMARY:Copperhead Jones
DESCRIPTION:Don’t miss the raw Southern rock energy of Copperhead Jones live on stage\, bringing gritty guitar riffs and powerhouse vocals that deliver a show packed with soul and swagger. Catch this high-energy performance at Paradise Park and experience a night of true Southern rock on the coast.
URL:https://bolivarpeninsulatexas.com/event/copperhead-jones
LOCATION:Camp Margaritaville RV Resort\, 796 Hwy 87\, Crystal Beach\, TX\, 77650\, United States
CATEGORIES:Music
ATTACH;FMTTYPE=image/png:https://bolivarpeninsulatexas.com/wp-content/uploads/2026/01/Copperhead-Jones.png
END:VEVENT
END:VCALENDAR