BEGIN:VCALENDAR
VERSION:2.0
PRODID:-//Bolivar Peninsula Texas - ECPv6.15.20//NONSGML v1.0//EN
CALSCALE:GREGORIAN
METHOD:PUBLISH
X-ORIGINAL-URL:https://bolivarpeninsulatexas.com
X-WR-CALDESC:Events for Bolivar Peninsula Texas
REFRESH-INTERVAL;VALUE=DURATION:PT1H
X-Robots-Tag:noindex
X-PUBLISHED-TTL:PT1H
BEGIN:VTIMEZONE
TZID:America/Chicago
BEGIN:DAYLIGHT
TZOFFSETFROM:-0600
TZOFFSETTO:-0500
TZNAME:CDT
DTSTART:20250309T080000
END:DAYLIGHT
BEGIN:STANDARD
TZOFFSETFROM:-0500
TZOFFSETTO:-0600
TZNAME:CST
DTSTART:20251102T070000
END:STANDARD
BEGIN:DAYLIGHT
TZOFFSETFROM:-0600
TZOFFSETTO:-0500
TZNAME:CDT
DTSTART:20260308T080000
END:DAYLIGHT
BEGIN:STANDARD
TZOFFSETFROM:-0500
TZOFFSETTO:-0600
TZNAME:CST
DTSTART:20261101T070000
END:STANDARD
BEGIN:DAYLIGHT
TZOFFSETFROM:-0600
TZOFFSETTO:-0500
TZNAME:CDT
DTSTART:20270314T080000
END:DAYLIGHT
BEGIN:STANDARD
TZOFFSETFROM:-0500
TZOFFSETTO:-0600
TZNAME:CST
DTSTART:20271107T070000
END:STANDARD
END:VTIMEZONE
BEGIN:VEVENT
DTSTART;TZID=America/Chicago:20260403T180000
DTEND;TZID=America/Chicago:20260403T210000
DTSTAMP:20260420T005402
CREATED:20260120T201917Z
LAST-MODIFIED:20260120T201917Z
UID:10000056-1775239200-1775250000@bolivarpeninsulatexas.com
SUMMARY:Paul Noyola
DESCRIPTION:Paul Noyola brings smooth vocals\, great energy\, and crowd-pleasing favorites to Stingaree Restaurant & Marina. With the water as the backdrop and the party rolling\, it’s the perfect mix of live music\, coastal vibes\, cold drinks\, and fresh seafood for an unforgettable night on the Upper Texas Coast.
URL:https://bolivarpeninsulatexas.com/event/paul-noyola
LOCATION:Stingaree Restaurant and Marina\, 1295 N. Stingaree Rd.\, Crystal Beach\, TX\, 77650\, United States
CATEGORIES:Music
ATTACH;FMTTYPE=image/png:https://bolivarpeninsulatexas.com/wp-content/uploads/2026/01/Paul-Noyola-1.png
END:VEVENT
BEGIN:VEVENT
DTSTART;TZID=America/Chicago:20260403T193000
DTEND;TZID=America/Chicago:20260403T220000
DTSTAMP:20260420T005402
CREATED:20260303T185256Z
LAST-MODIFIED:20260303T185256Z
UID:10000115-1775244600-1775253600@bolivarpeninsulatexas.com
SUMMARY:Byron Haynie
DESCRIPTION:Experience a night of “easy-listening” favorites with Byron Haynie at Paradise Park. From classic country hits and honky-tonk shuffles to soulful blues and southern rock\, Byron’s extensive playlist has something for everyone. Come enjoy a family-friendly atmosphere\, great company\, and the coastal breeze as one of Texas’ premier vocalists delivers an unforgettable live performance.
URL:https://bolivarpeninsulatexas.com/event/byron-haynie-2
LOCATION:Camp Margaritaville RV Resort\, 796 Hwy 87\, Crystal Beach\, TX\, 77650\, United States
CATEGORIES:Music
ATTACH;FMTTYPE=image/jpeg:https://bolivarpeninsulatexas.com/wp-content/uploads/2026/03/Byron-Haynie.jpeg
END:VEVENT
BEGIN:VEVENT
DTSTART;TZID=America/Chicago:20260404T180000
DTEND;TZID=America/Chicago:20260404T210000
DTSTAMP:20260420T005402
CREATED:20260120T202249Z
LAST-MODIFIED:20260120T202249Z
UID:10000057-1775325600-1775336400@bolivarpeninsulatexas.com
SUMMARY:Michael Farrell
DESCRIPTION:Michael Farrell brings a laid-back\, feel-good sound to Stingaree Restaurant & Marina\, pairing perfectly with waterfront views and coastal breezes. His engaging performance and familiar favorites set the tone for an easygoing night of live music\, fresh seafood\, and unforgettable #FreeSunsets on the Upper Texas Coast.
URL:https://bolivarpeninsulatexas.com/event/michael-farrell-2
LOCATION:Stingaree Restaurant and Marina\, 1295 N. Stingaree Rd.\, Crystal Beach\, TX\, 77650\, United States
CATEGORIES:Music
ATTACH;FMTTYPE=image/jpeg:https://bolivarpeninsulatexas.com/wp-content/uploads/2026/01/Michael-Farrell-1.jpg
END:VEVENT
BEGIN:VEVENT
DTSTART;TZID=America/Chicago:20260404T193000
DTEND;TZID=America/Chicago:20260404T223000
DTSTAMP:20260420T005402
CREATED:20260202T203743Z
LAST-MODIFIED:20260218T201707Z
UID:10000082-1775331000-1775341800@bolivarpeninsulatexas.com
SUMMARY:The Chee-Weez
DESCRIPTION:If your Spring Break plans roll right into April\, the party keeps going with The Chee-Weez on Saturday\, April 4. Get ready for an over-the-top show packed with powerhouse vocals\, wild costumes\, and nonstop high-energy fun. This is the band that turns every performance into a larger-than-life celebration you won’t forget. Catch all the action live at Paradise Park\, with special guests the Zak Webb Band.
URL:https://bolivarpeninsulatexas.com/event/the-chee-weez
LOCATION:Crystal Beach Texas\, 2275 Hwy 87\, Crystal Beach\, TX\, 77650\, United States
CATEGORIES:Music
ATTACH;FMTTYPE=image/png:https://bolivarpeninsulatexas.com/wp-content/uploads/2026/02/The-Chee-Weez.png
END:VEVENT
END:VCALENDAR