BEGIN:VCALENDAR
VERSION:2.0
PRODID:-//Bolivar Peninsula Texas - ECPv6.15.20//NONSGML v1.0//EN
CALSCALE:GREGORIAN
METHOD:PUBLISH
X-ORIGINAL-URL:https://bolivarpeninsulatexas.com
X-WR-CALDESC:Events for Bolivar Peninsula Texas
REFRESH-INTERVAL;VALUE=DURATION:PT1H
X-Robots-Tag:noindex
X-PUBLISHED-TTL:PT1H
BEGIN:VTIMEZONE
TZID:America/Chicago
BEGIN:DAYLIGHT
TZOFFSETFROM:-0600
TZOFFSETTO:-0500
TZNAME:CDT
DTSTART:20250309T080000
END:DAYLIGHT
BEGIN:STANDARD
TZOFFSETFROM:-0500
TZOFFSETTO:-0600
TZNAME:CST
DTSTART:20251102T070000
END:STANDARD
BEGIN:DAYLIGHT
TZOFFSETFROM:-0600
TZOFFSETTO:-0500
TZNAME:CDT
DTSTART:20260308T080000
END:DAYLIGHT
BEGIN:STANDARD
TZOFFSETFROM:-0500
TZOFFSETTO:-0600
TZNAME:CST
DTSTART:20261101T070000
END:STANDARD
BEGIN:DAYLIGHT
TZOFFSETFROM:-0600
TZOFFSETTO:-0500
TZNAME:CDT
DTSTART:20270314T080000
END:DAYLIGHT
BEGIN:STANDARD
TZOFFSETFROM:-0500
TZOFFSETTO:-0600
TZNAME:CST
DTSTART:20271107T070000
END:STANDARD
END:VTIMEZONE
BEGIN:VEVENT
DTSTART;TZID=America/Chicago:20260529T180000
DTEND;TZID=America/Chicago:20260529T210000
DTSTAMP:20260420T021259
CREATED:20260416T185152Z
LAST-MODIFIED:20260416T185152Z
UID:10000140-1780077600-1780088400@bolivarpeninsulatexas.com
SUMMARY:Melon Jelly
DESCRIPTION:Prepare for a night of sweet sounds and high energy as Melon Jelly takes the stage at Stingaree Restaurant and Marina. Known for their vibrant performances and eclectic musical style\, Melon Jelly brings a flavor all their own to the Bolivar Peninsula. \nWhether you’re a fan of catchy covers or original rhythms\, Melon Jelly is guaranteed to get you in a coastal state of mind. Set against the panoramic views of the Intracoastal Waterway\, this is the perfect way to spend a Friday evening with friends and family. Enjoy the best seafood on the coast\, a refreshing drink\, and a setlist that keeps the good vibes rolling.
URL:https://bolivarpeninsulatexas.com/event/melon-jelly
LOCATION:Stingaree Restaurant and Marina\, 1295 N. Stingaree Rd.\, Crystal Beach\, TX\, 77650\, United States
CATEGORIES:Music
ATTACH;FMTTYPE=image/png:https://bolivarpeninsulatexas.com/wp-content/uploads/2026/04/Melon-Jelly.png
END:VEVENT
BEGIN:VEVENT
DTSTART;TZID=America/Chicago:20260529T193000
DTEND;TZID=America/Chicago:20260529T220000
DTSTAMP:20260420T021259
CREATED:20260326T175232Z
LAST-MODIFIED:20260326T175232Z
UID:10000129-1780083000-1780092000@bolivarpeninsulatexas.com
SUMMARY:Dylan Rhys Band
DESCRIPTION:Looking for live music in Crystal Beach\, TX? The Dylan Rhys Band performs live at Paradise Park at Camp Margaritaville. A rising star in the Texas singer-songwriter scene\, Dylan Rhys delivers a unique blend of Americana and Country music. Whether you’re a local or visiting the Bolivar Peninsula\, come enjoy a night of engaging live music and honest storytelling under the Texas stars.
URL:https://bolivarpeninsulatexas.com/event/dylan-rhys-band
LOCATION:Camp Margaritaville RV Resort\, 796 Hwy 87\, Crystal Beach\, TX\, 77650\, United States
CATEGORIES:Music
ATTACH;FMTTYPE=image/jpeg:https://bolivarpeninsulatexas.com/wp-content/uploads/2026/03/Untitled-2-1.jpeg
END:VEVENT
END:VCALENDAR