BEGIN:VCALENDAR
VERSION:2.0
PRODID:-//Bolivar Peninsula Texas - ECPv6.15.20//NONSGML v1.0//EN
CALSCALE:GREGORIAN
METHOD:PUBLISH
X-ORIGINAL-URL:https://bolivarpeninsulatexas.com
X-WR-CALDESC:Events for Bolivar Peninsula Texas
REFRESH-INTERVAL;VALUE=DURATION:PT1H
X-Robots-Tag:noindex
X-PUBLISHED-TTL:PT1H
BEGIN:VTIMEZONE
TZID:America/Chicago
BEGIN:DAYLIGHT
TZOFFSETFROM:-0600
TZOFFSETTO:-0500
TZNAME:CDT
DTSTART:20250309T080000
END:DAYLIGHT
BEGIN:STANDARD
TZOFFSETFROM:-0500
TZOFFSETTO:-0600
TZNAME:CST
DTSTART:20251102T070000
END:STANDARD
BEGIN:DAYLIGHT
TZOFFSETFROM:-0600
TZOFFSETTO:-0500
TZNAME:CDT
DTSTART:20260308T080000
END:DAYLIGHT
BEGIN:STANDARD
TZOFFSETFROM:-0500
TZOFFSETTO:-0600
TZNAME:CST
DTSTART:20261101T070000
END:STANDARD
BEGIN:DAYLIGHT
TZOFFSETFROM:-0600
TZOFFSETTO:-0500
TZNAME:CDT
DTSTART:20270314T080000
END:DAYLIGHT
BEGIN:STANDARD
TZOFFSETFROM:-0500
TZOFFSETTO:-0600
TZNAME:CST
DTSTART:20271107T070000
END:STANDARD
END:VTIMEZONE
BEGIN:VEVENT
DTSTART;TZID=America/Chicago:20260418T183000
DTEND;TZID=America/Chicago:20260418T213000
DTSTAMP:20260420T021630
CREATED:20260416T175404Z
LAST-MODIFIED:20260417T162848Z
UID:10000136-1776537000-1776547800@bolivarpeninsulatexas.com
SUMMARY:Captain Matt and the Boatcrew
DESCRIPTION:Get ready for a night of music that truly speaks to the soul as Captain Matt & The Boatcrew take the stage at Stingaree Restaurant and Marina. If you’re tired of the same old sound\, this is the refresh you’ve been waiting for. \nCaptain Matt brings a unique blend of soulful melodies and heartfelt lyrics to the bay\, delivering a performance that is as moving as it is authentic. Drawing deep inspiration from his life in the Navy\, his faith\, and his lifelong love for the water\, Matt’s music is a genuine celebration of human connection and the beauty of living life to the fullest.
URL:https://bolivarpeninsulatexas.com/event/captain-matt-and-the-boatcrew
LOCATION:Stingaree Restaurant and Marina\, 1295 N. Stingaree Rd.\, Crystal Beach\, TX\, 77650\, United States
CATEGORIES:Music
ATTACH;FMTTYPE=image/png:https://bolivarpeninsulatexas.com/wp-content/uploads/2026/04/Captain-Matt-and-the-Boatcrew.png
END:VEVENT
BEGIN:VEVENT
DTSTART;TZID=America/Chicago:20260417T190000
DTEND;TZID=America/Chicago:20260417T220000
DTSTAMP:20260420T021630
CREATED:20260416T174348Z
LAST-MODIFIED:20260416T174348Z
UID:10000135-1776452400-1776463200@bolivarpeninsulatexas.com
SUMMARY:Get Right Ramblers
DESCRIPTION:Get ready for an evening of authentic sounds and coastal vibes as the Get Right Ramblers take the stage at Stingaree Restaurant and Marina. Known for their soulful blend of music that perfectly complements the relaxed atmosphere of the Bolivar Peninsula\, the Ramblers are set to deliver a performance that captures the true spirit of the Texas coast.
URL:https://bolivarpeninsulatexas.com/event/get-right-ramblers
LOCATION:Stingaree Restaurant and Marina\, 1295 N. Stingaree Rd.\, Crystal Beach\, TX\, 77650\, United States
CATEGORIES:Music
ATTACH;FMTTYPE=image/png:https://bolivarpeninsulatexas.com/wp-content/uploads/2026/04/Get-Right-Ramblers.png
END:VEVENT
BEGIN:VEVENT
DTSTART;TZID=America/Chicago:20260411T180000
DTEND;TZID=America/Chicago:20260411T210000
DTSTAMP:20260420T021630
CREATED:20260120T202544Z
LAST-MODIFIED:20260120T202544Z
UID:10000058-1775930400-1775941200@bolivarpeninsulatexas.com
SUMMARY:The Line Up
DESCRIPTION:The Line Up is hitting the stage at Stingaree Restaurant & Marina with a fun\, high-energy set perfect for a night on the coast. Enjoy live music\, waterfront views\, fresh seafood\, and ice-cold drinks as the party rolls on at one of Crystal Beach’s favorite spots.
URL:https://bolivarpeninsulatexas.com/event/the-line-up-2
LOCATION:Stingaree Restaurant and Marina\, 1295 N. Stingaree Rd.\, Crystal Beach\, TX\, 77650\, United States
CATEGORIES:Music
ATTACH;FMTTYPE=image/png:https://bolivarpeninsulatexas.com/wp-content/uploads/2026/01/The-Line-Up.png
END:VEVENT
BEGIN:VEVENT
DTSTART;TZID=America/Chicago:20260213T180000
DTEND;TZID=America/Chicago:20260213T210000
DTSTAMP:20260420T021630
CREATED:20260119T195249Z
LAST-MODIFIED:20260119T195249Z
UID:10000048-1771005600-1771016400@bolivarpeninsulatexas.com
SUMMARY:Bayou Sounds
DESCRIPTION:Get ready for an authentic Cajun good time as Bayou Sounds brings their back-porch style sound to Stingaree Restaurant & Marina. With rootsy rhythms\, lively energy\, and a party-first vibe\, this is Louisiana flavor on the Texas coast—perfect for dancing\, singing along\, and soaking up the waterfront atmosphere.
URL:https://bolivarpeninsulatexas.com/event/bayou-sounds
LOCATION:Stingaree Restaurant and Marina\, 1295 N. Stingaree Rd.\, Crystal Beach\, TX\, 77650\, United States
CATEGORIES:Music
ATTACH;FMTTYPE=image/png:https://bolivarpeninsulatexas.com/wp-content/uploads/2026/01/Bayou-Sounds.png
END:VEVENT
END:VCALENDAR