BEGIN:VCALENDAR
VERSION:2.0
PRODID:-//Bolivar Peninsula Texas - ECPv6.15.20//NONSGML v1.0//EN
CALSCALE:GREGORIAN
METHOD:PUBLISH
X-WR-CALNAME:Bolivar Peninsula Texas
X-ORIGINAL-URL:https://bolivarpeninsulatexas.com
X-WR-CALDESC:Events for Bolivar Peninsula Texas
REFRESH-INTERVAL;VALUE=DURATION:PT1H
X-Robots-Tag:noindex
X-PUBLISHED-TTL:PT1H
BEGIN:VTIMEZONE
TZID:America/Chicago
BEGIN:DAYLIGHT
TZOFFSETFROM:-0600
TZOFFSETTO:-0500
TZNAME:CDT
DTSTART:20250309T080000
END:DAYLIGHT
BEGIN:STANDARD
TZOFFSETFROM:-0500
TZOFFSETTO:-0600
TZNAME:CST
DTSTART:20251102T070000
END:STANDARD
BEGIN:DAYLIGHT
TZOFFSETFROM:-0600
TZOFFSETTO:-0500
TZNAME:CDT
DTSTART:20260308T080000
END:DAYLIGHT
BEGIN:STANDARD
TZOFFSETFROM:-0500
TZOFFSETTO:-0600
TZNAME:CST
DTSTART:20261101T070000
END:STANDARD
BEGIN:DAYLIGHT
TZOFFSETFROM:-0600
TZOFFSETTO:-0500
TZNAME:CDT
DTSTART:20270314T080000
END:DAYLIGHT
BEGIN:STANDARD
TZOFFSETFROM:-0500
TZOFFSETTO:-0600
TZNAME:CST
DTSTART:20271107T070000
END:STANDARD
END:VTIMEZONE
BEGIN:VEVENT
DTSTART;TZID=America/Chicago:20260418T080000
DTEND;TZID=America/Chicago:20260418T150000
DTSTAMP:20260420T020530
CREATED:20260106T171102Z
LAST-MODIFIED:20260106T171102Z
UID:10000032-1776499200-1776524400@bolivarpeninsulatexas.com
SUMMARY:2026 Watermelon Crawl
DESCRIPTION:Save the date for the 2026 Watermelon Crawl\, April 18th\, and get ready for one of the sweetest traditions on the Bolivar Peninsula 🍉 Cruise through Crystal Beach with your golf cart decked out in watermelon flair\, smiles all around\, and summer vibes in the air. It’s a fun\, quirky celebration that brings friends\, families\, and the community together for a day full of laughter\, color\, and coastal charm.
URL:https://bolivarpeninsulatexas.com/event/2026-watermelon-crawl
LOCATION:Crystal Beach Texas\, 2275 Hwy 87\, Crystal Beach\, TX\, 77650\, United States
CATEGORIES:Events
ATTACH;FMTTYPE=image/png:https://bolivarpeninsulatexas.com/wp-content/uploads/2026/01/Untitled-19-1.png
END:VEVENT
BEGIN:VEVENT
DTSTART;TZID=America/Chicago:20260404T193000
DTEND;TZID=America/Chicago:20260404T223000
DTSTAMP:20260420T020530
CREATED:20260202T203743Z
LAST-MODIFIED:20260218T201707Z
UID:10000082-1775331000-1775341800@bolivarpeninsulatexas.com
SUMMARY:The Chee-Weez
DESCRIPTION:If your Spring Break plans roll right into April\, the party keeps going with The Chee-Weez on Saturday\, April 4. Get ready for an over-the-top show packed with powerhouse vocals\, wild costumes\, and nonstop high-energy fun. This is the band that turns every performance into a larger-than-life celebration you won’t forget. Catch all the action live at Paradise Park\, with special guests the Zak Webb Band.
URL:https://bolivarpeninsulatexas.com/event/the-chee-weez
LOCATION:Crystal Beach Texas\, 2275 Hwy 87\, Crystal Beach\, TX\, 77650\, United States
CATEGORIES:Music
ATTACH;FMTTYPE=image/png:https://bolivarpeninsulatexas.com/wp-content/uploads/2026/02/The-Chee-Weez.png
END:VEVENT
BEGIN:VEVENT
DTSTART;TZID=America/Chicago:20260308T060000
DTEND;TZID=America/Chicago:20260323T180000
DTSTAMP:20260420T020530
CREATED:20251205T113644Z
LAST-MODIFIED:20251205T113954Z
UID:10000007-1772949600-1774288800@bolivarpeninsulatexas.com
SUMMARY:Spring Break 2026
DESCRIPTION:Spring Break 2026 on Bolivar Peninsula: Your Coastal Calendar of Events\nGet ready for sun-soaked days\, salty breezes\, and 27 miles of wide-open beachfront—Spring Break 2026 in Crystal Beach\, Texas is where coastal charm meets family-friendly fun. From fresh Gulf seafood served at locally owned restaurants to live music echoing across bayside venues\, Bolivar Peninsula offers the perfect blend of relaxation\, adventure\, and authentic Texas history.\nThroughout March\, visitors can explore Fort Travis\, one of Texas’ earliest military sites overlooking Galveston Bay\, cast a line or watch freighters roll by at the North Jetties\, or take a peaceful walk among thousands of migrating birds at the world-famous Rookery in High Island. Families and Spring Breakers alike will find something unforgettable—whether it’s beach bonfires\, sunrise shell hunts\, or a full lineup of live entertainment and coastal events.\nEnjoy local flavor with shrimp\, oysters\, and daily specials from beloved family-run eateries\, then wind down with live bands playing everything from country to coastal rock at popular Crystal Beach venues. This is a season made for slowing down\, exploring nature\, supporting small businesses\, and truly living the coastal life. \nPlan your Spring Break escape now—Bolivar Peninsula is the Gulf Coast destination where adventure\, history\, and laid-back beach days come together for memories that last long after the sand is gone from your shoes.
URL:https://bolivarpeninsulatexas.com/event/spring-break-2026
LOCATION:Crystal Beach Texas\, 2275 Hwy 87\, Crystal Beach\, TX\, 77650\, United States
CATEGORIES:Events,Music
ATTACH;FMTTYPE=image/jpeg:https://bolivarpeninsulatexas.com/wp-content/uploads/2025/12/Spring-Break-2026-Crystal-Beach-Texas.jpeg
END:VEVENT
BEGIN:VEVENT
DTSTART;TZID=America/Chicago:20260214T113000
DTEND;TZID=America/Chicago:20260214T133000
DTSTAMP:20260420T020530
CREATED:20251204T231750Z
LAST-MODIFIED:20251205T011214Z
UID:10000006-1771068600-1771075800@bolivarpeninsulatexas.com
SUMMARY:Mardi Gras Parade
DESCRIPTION:Experience the Mardi Gras Parade 2026 in Crystal Beach\, Texas\, on Saturday\, February 14\, 2026\, kicking off at 11:30 AM from Camp Margaritaville and rolling down Highway 87 before finishing at Gregory Park. This family-friendly event is a must-see\, as the highway is lined with excited spectators ready to catch beads and enjoy the vibrant floats. After the parade\, keep the celebration going at local restaurants serving fresh seafood\, boiled crawfish\, and live music. This annual tradition marks the official start of fun in the sun on the Bolivar Peninsula—don’t miss out! Plan your trip today! #MardiGras2026 #CrystalBeachTexas #BolivarPeninsula
URL:https://bolivarpeninsulatexas.com/event/mardi-gras-parade
LOCATION:Crystal Beach Texas\, 2275 Hwy 87\, Crystal Beach\, TX\, 77650\, United States
CATEGORIES:Events
ATTACH;FMTTYPE=image/jpeg:https://bolivarpeninsulatexas.com/wp-content/uploads/2025/12/Mardi-Gras-Parade-Crystal-Beach-Texas.jpeg
END:VEVENT
BEGIN:VEVENT
DTSTART;TZID=America/Chicago:20260214T060000
DTEND;TZID=America/Chicago:20260216T150000
DTSTAMP:20260420T020530
CREATED:20251205T121812Z
LAST-MODIFIED:20260216T220454Z
UID:10000008-1771048800-1771254000@bolivarpeninsulatexas.com
SUMMARY:Valentine's Day Weekend Getaway
DESCRIPTION:Celebrate Valentine’s Day Weekend on February 14th with coastal charm\, local flavor\, and one of the most anticipated events on the Upper Texas Coast—the annual Mardi Gras Parade in Crystal Beach\, Texas. This festive beachfront celebration transforms Bolivar Peninsula into a vibrant mix of love\, laughter\, and Louisiana-style fun\, complete with colorful floats\, family-friendly excitement\, and plenty of beads flying under the winter sun.\nWith Presidents Day falling on the following Monday\, visitors can enjoy a full three-day weekend packed with relaxation and adventure. From beachfront strolls and fresh Gulf seafood to shopping\, live music\, and exploring local history\, it’s 3 events\, 1 unforgettable weekend along our 27 miles of open beachfront. Plan your Valentine’s Day getaway now and experience the perfect blend of romance\, Mardi Gras magic\, and coastal escape on Bolivar Peninsula—your Upper Texas Coast destination for memories made year after year.
URL:https://bolivarpeninsulatexas.com/event/valentines-day-weekend-getaway
LOCATION:Crystal Beach Texas\, 2275 Hwy 87\, Crystal Beach\, TX\, 77650\, United States
CATEGORIES:Events
ATTACH;FMTTYPE=image/jpeg:https://bolivarpeninsulatexas.com/wp-content/uploads/2025/12/Valentines-Day-Weekend-Getaway-in-Crystal-Beach-Texas.jpeg
END:VEVENT
END:VCALENDAR